BEGIN:VCALENDAR
VERSION:2.0
PRODID:-//UNCG Alumni - ECPv6.15.17//NONSGML v1.0//EN
CALSCALE:GREGORIAN
METHOD:PUBLISH
X-ORIGINAL-URL:https://alumni.uncg.edu
X-WR-CALDESC:Events for UNCG Alumni
REFRESH-INTERVAL;VALUE=DURATION:PT1H
X-Robots-Tag:noindex
X-PUBLISHED-TTL:PT1H
BEGIN:VTIMEZONE
TZID:America/New_York
BEGIN:DAYLIGHT
TZOFFSETFROM:-0500
TZOFFSETTO:-0400
TZNAME:EDT
DTSTART:20250309T070000
END:DAYLIGHT
BEGIN:STANDARD
TZOFFSETFROM:-0400
TZOFFSETTO:-0500
TZNAME:EST
DTSTART:20251102T060000
END:STANDARD
BEGIN:DAYLIGHT
TZOFFSETFROM:-0500
TZOFFSETTO:-0400
TZNAME:EDT
DTSTART:20260308T070000
END:DAYLIGHT
BEGIN:STANDARD
TZOFFSETFROM:-0400
TZOFFSETTO:-0500
TZNAME:EST
DTSTART:20261101T060000
END:STANDARD
BEGIN:DAYLIGHT
TZOFFSETFROM:-0500
TZOFFSETTO:-0400
TZNAME:EDT
DTSTART:20270314T070000
END:DAYLIGHT
BEGIN:STANDARD
TZOFFSETFROM:-0400
TZOFFSETTO:-0500
TZNAME:EST
DTSTART:20271107T060000
END:STANDARD
END:VTIMEZONE
BEGIN:VEVENT
DTSTART;TZID=America/New_York:20260430T130000
DTEND;TZID=America/New_York:20260430T160000
DTSTAMP:20260423T141240
CREATED:20260413T134056Z
LAST-MODIFIED:20260413T134114Z
UID:10000199-1777554000-1777564800@alumni.uncg.edu
SUMMARY:Reading Day Recharge
DESCRIPTION:Reading Day Recharge is a biannual event designed to help students decompress before final exams! Students are invited to join us for fun activities and refreshments at the Marcus T. Johnson Alumni House. Reading Day Recharge is a student event! Grab a friend\, come decompress\, and have a treat on us.  \n\n\n\nWe accept walk-up registrations\, but kindly request RSVPs in advance. Please use the form below to RSVP so we know to expect you.
URL:https://alumni.uncg.edu/event/reading-day-recharge-4/
END:VEVENT
END:VCALENDAR